BEGIN:VCALENDAR
VERSION:2.0
PRODID:-//Montana Federation of Public Employees - ECPv6.12.0//NONSGML v1.0//EN
CALSCALE:GREGORIAN
METHOD:PUBLISH
X-WR-CALNAME:Montana Federation of Public Employees
X-ORIGINAL-URL:https://mfpe.org
X-WR-CALDESC:Events for Montana Federation of Public Employees
REFRESH-INTERVAL;VALUE=DURATION:PT1H
X-Robots-Tag:noindex
X-PUBLISHED-TTL:PT1H
BEGIN:VTIMEZONE
TZID:America/Denver
BEGIN:DAYLIGHT
TZOFFSETFROM:-0700
TZOFFSETTO:-0600
TZNAME:MDT
DTSTART:20250309T090000
END:DAYLIGHT
BEGIN:STANDARD
TZOFFSETFROM:-0600
TZOFFSETTO:-0700
TZNAME:MST
DTSTART:20251102T080000
END:STANDARD
END:VTIMEZONE
BEGIN:VEVENT
DTSTART;TZID=America/Denver:20250903T173000
DTEND;TZID=America/Denver:20250903T190000
DTSTAMP:20260423T124704
CREATED:20250825T160246Z
LAST-MODIFIED:20250825T160246Z
UID:28189-1756920600-1756926000@mfpe.org
SUMMARY:Fall Meeting - Butte
DESCRIPTION:
URL:https://mfpe.org/event/fall-meeting-butte/
LOCATION:Carpenters’ Hall\, 156 W Granite St\, Butte\, MT\, 59701
ORGANIZER;CN="Amanda Curtis":MAILTO:acurtis@mfpe.org
END:VEVENT
END:VCALENDAR