BEGIN:VCALENDAR
VERSION:2.0
PRODID:-//Montana Federation of Public Employees - ECPv6.12.0//NONSGML v1.0//EN
CALSCALE:GREGORIAN
METHOD:PUBLISH
X-ORIGINAL-URL:https://mfpe.org
X-WR-CALDESC:Events for Montana Federation of Public Employees
REFRESH-INTERVAL;VALUE=DURATION:PT1H
X-Robots-Tag:noindex
X-PUBLISHED-TTL:PT1H
BEGIN:VTIMEZONE
TZID:America/Denver
BEGIN:DAYLIGHT
TZOFFSETFROM:-0700
TZOFFSETTO:-0600
TZNAME:MDT
DTSTART:20250309T090000
END:DAYLIGHT
BEGIN:STANDARD
TZOFFSETFROM:-0600
TZOFFSETTO:-0700
TZNAME:MST
DTSTART:20251102T080000
END:STANDARD
END:VTIMEZONE
BEGIN:VEVENT
DTSTART;TZID=America/Denver:20250911T173000
DTEND;TZID=America/Denver:20250911T190000
DTSTAMP:20260423T124948
CREATED:20250825T160511Z
LAST-MODIFIED:20250825T160511Z
UID:28192-1757611800-1757617200@mfpe.org
SUMMARY:Fall Meeting - Bozeman
DESCRIPTION:
URL:https://mfpe.org/event/fall-meeting-bozeman/
LOCATION:Bozeman Public Library\, 626 E Main St\, Bozeman\, MT\, 59715
ORGANIZER;CN="Amanda Curtis":MAILTO:acurtis@mfpe.org
END:VEVENT
END:VCALENDAR