BEGIN:VCALENDAR
VERSION:2.0
PRODID:-//Montana Federation of Public Employees - ECPv6.12.0//NONSGML v1.0//EN
CALSCALE:GREGORIAN
METHOD:PUBLISH
X-ORIGINAL-URL:https://mfpe.org
X-WR-CALDESC:Events for Montana Federation of Public Employees
REFRESH-INTERVAL;VALUE=DURATION:PT1H
X-Robots-Tag:noindex
X-PUBLISHED-TTL:PT1H
BEGIN:VTIMEZONE
TZID:America/Denver
BEGIN:DAYLIGHT
TZOFFSETFROM:-0700
TZOFFSETTO:-0600
TZNAME:MDT
DTSTART:20250309T090000
END:DAYLIGHT
BEGIN:STANDARD
TZOFFSETFROM:-0600
TZOFFSETTO:-0700
TZNAME:MST
DTSTART:20251102T080000
END:STANDARD
END:VTIMEZONE
BEGIN:VEVENT
DTSTART;TZID=America/Denver:20250929T120000
DTEND;TZID=America/Denver:20250929T130000
DTSTAMP:20260423T113718
CREATED:20250825T172337Z
LAST-MODIFIED:20250825T172337Z
UID:28249-1759147200-1759150800@mfpe.org
SUMMARY:MFPE-R Meeting
DESCRIPTION:
URL:https://mfpe.org/event/mfpe-r-meeting-5/
LOCATION:virtual
END:VEVENT
BEGIN:VEVENT
DTSTART;TZID=America/Denver:20250929T173000
DTEND;TZID=America/Denver:20250929T190000
DTSTAMP:20260423T113718
CREATED:20250825T161453Z
LAST-MODIFIED:20250825T161453Z
UID:28207-1759167000-1759172400@mfpe.org
SUMMARY:Fall Meetings - Billings
DESCRIPTION:
URL:https://mfpe.org/event/fall-meetings-billings/
LOCATION:Billings Education Association Office\, 510 N 29th St\, Billings\, MT\, 59101
ORGANIZER;CN="Amanda Curtis":MAILTO:acurtis@mfpe.org
END:VEVENT
BEGIN:VEVENT
DTSTART;TZID=America/Denver:20250929T190000
DTEND;TZID=America/Denver:20250929T200000
DTSTAMP:20260423T113718
CREATED:20250825T165243Z
LAST-MODIFIED:20250825T165243Z
UID:28220-1759172400-1759176000@mfpe.org
SUMMARY:PASS Kick-off
DESCRIPTION:
URL:https://mfpe.org/event/pass-kick-off/
ORGANIZER;CN="Kim Popham":MAILTO:kpopham@mfpe.org
END:VEVENT
END:VCALENDAR