BEGIN:VCALENDAR
VERSION:2.0
PRODID:-//Montana Federation of Public Employees - ECPv6.12.0//NONSGML v1.0//EN
CALSCALE:GREGORIAN
METHOD:PUBLISH
X-WR-CALNAME:Montana Federation of Public Employees
X-ORIGINAL-URL:https://mfpe.org
X-WR-CALDESC:Events for Montana Federation of Public Employees
REFRESH-INTERVAL;VALUE=DURATION:PT1H
X-Robots-Tag:noindex
X-PUBLISHED-TTL:PT1H
BEGIN:VTIMEZONE
TZID:America/Denver
BEGIN:DAYLIGHT
TZOFFSETFROM:-0700
TZOFFSETTO:-0600
TZNAME:MDT
DTSTART:20250309T090000
END:DAYLIGHT
BEGIN:STANDARD
TZOFFSETFROM:-0600
TZOFFSETTO:-0700
TZNAME:MST
DTSTART:20251102T080000
END:STANDARD
END:VTIMEZONE
BEGIN:VEVENT
DTSTART;TZID=America/Denver:20251106T173000
DTEND;TZID=America/Denver:20251106T183000
DTSTAMP:20260423T102024
CREATED:20250825T171656Z
LAST-MODIFIED:20250825T171656Z
UID:28241-1762450200-1762453800@mfpe.org
SUMMARY:1st Thursday Presidents Meeting
DESCRIPTION:
URL:https://mfpe.org/event/1st-thursday-presidents-meeting-2/
LOCATION:virtual
ORGANIZER;CN="Amanda Curtis":MAILTO:acurtis@mfpe.org
END:VEVENT
END:VCALENDAR