BEGIN:VCALENDAR
VERSION:2.0
PRODID:-//Montana Federation of Public Employees - ECPv6.12.0//NONSGML v1.0//EN
CALSCALE:GREGORIAN
METHOD:PUBLISH
X-ORIGINAL-URL:https://mfpe.org
X-WR-CALDESC:Events for Montana Federation of Public Employees
REFRESH-INTERVAL;VALUE=DURATION:PT1H
X-Robots-Tag:noindex
X-PUBLISHED-TTL:PT1H
BEGIN:VTIMEZONE
TZID:America/Denver
BEGIN:DAYLIGHT
TZOFFSETFROM:-0700
TZOFFSETTO:-0600
TZNAME:MDT
DTSTART:20260308T090000
END:DAYLIGHT
BEGIN:STANDARD
TZOFFSETFROM:-0600
TZOFFSETTO:-0700
TZNAME:MST
DTSTART:20261101T080000
END:STANDARD
END:VTIMEZONE
BEGIN:VEVENT
DTSTART;TZID=America/Denver:20260210T173000
DTEND;TZID=America/Denver:20260210T183000
DTSTAMP:20260422T180118
CREATED:20260204T210600Z
LAST-MODIFIED:20260204T210644Z
UID:28833-1770744600-1770748200@mfpe.org
SUMMARY:Winning School Elections: Boards\,  Bonds\, & Levies!
DESCRIPTION:When school board seats and funding are on the ballot\, MFPE members make the difference. It doesn’t matter if you work in a school or for city\, country\, or state government. We all rely on well-run\, well-funded public schools. Learn how to recruit\, endorse\, and support school board candidates. Gain strategies to pass bonds and levies that support strong public schools. This work takes all of us!
URL:https://mfpe.org/event/winning-school-elections-boards-bonds-levies/
ORGANIZER;CN="Hunter Losing":MAILTO:hlosing@mfpe.org
END:VEVENT
END:VCALENDAR