BEGIN:VCALENDAR
VERSION:2.0
PRODID:-//Montana Federation of Public Employees - ECPv6.12.0//NONSGML v1.0//EN
CALSCALE:GREGORIAN
METHOD:PUBLISH
X-WR-CALNAME:Montana Federation of Public Employees
X-ORIGINAL-URL:https://mfpe.org
X-WR-CALDESC:Events for Montana Federation of Public Employees
REFRESH-INTERVAL;VALUE=DURATION:PT1H
X-Robots-Tag:noindex
X-PUBLISHED-TTL:PT1H
BEGIN:VTIMEZONE
TZID:America/Denver
BEGIN:DAYLIGHT
TZOFFSETFROM:-0700
TZOFFSETTO:-0600
TZNAME:MDT
DTSTART:20260308T090000
END:DAYLIGHT
BEGIN:STANDARD
TZOFFSETFROM:-0600
TZOFFSETTO:-0700
TZNAME:MST
DTSTART:20261101T080000
END:STANDARD
END:VTIMEZONE
BEGIN:VEVENT
DTSTART;TZID=America/Denver:20260226T170000
DTEND;TZID=America/Denver:20260226T180000
DTSTAMP:20260421T210725
CREATED:20260204T211206Z
LAST-MODIFIED:20260204T211206Z
UID:28842-1772125200-1772128800@mfpe.org
SUMMARY:MFPE Book Club - The Anxious Generation
DESCRIPTION:
URL:https://mfpe.org/event/mfpe-book-club-the-anxious-generation/
ORGANIZER;CN="Kim Popham":MAILTO:kpopham@mfpe.org
END:VEVENT
END:VCALENDAR