BEGIN:VCALENDAR
VERSION:2.0
PRODID:-//Montana Federation of Public Employees - ECPv6.12.0//NONSGML v1.0//EN
CALSCALE:GREGORIAN
METHOD:PUBLISH
X-ORIGINAL-URL:https://mfpe.org
X-WR-CALDESC:Events for Montana Federation of Public Employees
REFRESH-INTERVAL;VALUE=DURATION:PT1H
X-Robots-Tag:noindex
X-PUBLISHED-TTL:PT1H
BEGIN:VTIMEZONE
TZID:America/Denver
BEGIN:DAYLIGHT
TZOFFSETFROM:-0700
TZOFFSETTO:-0600
TZNAME:MDT
DTSTART:20260308T090000
END:DAYLIGHT
BEGIN:STANDARD
TZOFFSETFROM:-0600
TZOFFSETTO:-0700
TZNAME:MST
DTSTART:20261101T080000
END:STANDARD
END:VTIMEZONE
BEGIN:VEVENT
DTSTART;TZID=America/Denver:20260305T170000
DTEND;TZID=America/Denver:20260305T180000
DTSTAMP:20260421T104549
CREATED:20260204T211342Z
LAST-MODIFIED:20260204T211342Z
UID:28844-1772730000-1772733600@mfpe.org
SUMMARY:MFPE Book Club - The Anxious Generation
DESCRIPTION:
URL:https://mfpe.org/event/mfpe-book-club-the-anxious-generation-2/
ORGANIZER;CN="Kim Popham":MAILTO:kpopham@mfpe.org
END:VEVENT
BEGIN:VEVENT
DTSTART;TZID=America/Denver:20260305T173000
DTEND;TZID=America/Denver:20260305T183000
DTSTAMP:20260421T104549
CREATED:20250825T173433Z
LAST-MODIFIED:20250825T173433Z
UID:28268-1772731800-1772735400@mfpe.org
SUMMARY:1st Thursday Presidents Meeting
DESCRIPTION:
URL:https://mfpe.org/event/1st-thursday-presidents-meeting-7/
LOCATION:virtual
ORGANIZER;CN="Amanda Curtis":MAILTO:acurtis@mfpe.org
END:VEVENT
BEGIN:VEVENT
DTSTART;TZID=America/Denver:20260305T173000
DTEND;TZID=America/Denver:20260305T183000
DTSTAMP:20260421T104549
CREATED:20260204T212002Z
LAST-MODIFIED:20260220T223544Z
UID:28854-1772731800-1772735400@mfpe.org
SUMMARY:State Pay Plan Bargaining Training: Negotiating A Fair Package With the Governor This Year
DESCRIPTION:Between legislative sessions\, MFPE members bargain the next two year Pay Plan with the governor. As we gear up to bargain this year\, every MFPE member in state government and higher education has a role to play in winning a fair package. Join this training to learn how pre-budget negotiations work and how we organize\, apply pressure\, and win the raises and benefits we deserve at the bargaining table.
URL:https://mfpe.org/event/state-pay-plan-bargaining-training-negotiating-a-fair-package-with-the-governor-this-year/
END:VEVENT
END:VCALENDAR