BEGIN:VCALENDAR
VERSION:2.0
PRODID:-//Montana Federation of Public Employees - ECPv6.12.0//NONSGML v1.0//EN
CALSCALE:GREGORIAN
METHOD:PUBLISH
X-WR-CALNAME:Montana Federation of Public Employees
X-ORIGINAL-URL:https://mfpe.org
X-WR-CALDESC:Events for Montana Federation of Public Employees
REFRESH-INTERVAL;VALUE=DURATION:PT1H
X-Robots-Tag:noindex
X-PUBLISHED-TTL:PT1H
BEGIN:VTIMEZONE
TZID:America/Denver
BEGIN:DAYLIGHT
TZOFFSETFROM:-0700
TZOFFSETTO:-0600
TZNAME:MDT
DTSTART:20250309T090000
END:DAYLIGHT
BEGIN:STANDARD
TZOFFSETFROM:-0600
TZOFFSETTO:-0700
TZNAME:MST
DTSTART:20251102T080000
END:STANDARD
END:VTIMEZONE
BEGIN:VEVENT
DTSTART;TZID=America/Denver:20250605T173000
DTEND;TZID=America/Denver:20250605T183000
DTSTAMP:20260423T150949
CREATED:20250513T203114Z
LAST-MODIFIED:20250513T203136Z
UID:27469-1749144600-1749148200@mfpe.org
SUMMARY:Presidents Meeting
DESCRIPTION:
URL:https://mfpe.org/event/presidents-meeting/
LOCATION:virtual
CATEGORIES:President
END:VEVENT
BEGIN:VEVENT
DTSTART;VALUE=DATE:20250610
DTEND;VALUE=DATE:20250611
DTSTAMP:20260423T150949
CREATED:20250513T215610Z
LAST-MODIFIED:20250513T215716Z
UID:27500-1749513600-1749599999@mfpe.org
SUMMARY:Teacher Leadership Institute Application Deadline
DESCRIPTION:The Teacher Leadership Institute (TLI) program is designed to for educators that want to ready themselves for a more significant role in shaping their profession through pathways in policy change\, strengthening their union associations\, and instructional excellence.
URL:https://mfpe.org/event/teacher-leadership-institute-application-deadline/
ORGANIZER;CN="Kim Popham":MAILTO:kpopham@mfpe.org
END:VEVENT
BEGIN:VEVENT
DTSTART;TZID=America/Denver:20250610T080000
DTEND;TZID=America/Denver:20250612T170000
DTSTAMP:20260423T150949
CREATED:20250513T212413Z
LAST-MODIFIED:20250513T213510Z
UID:27475-1749542400-1749747600@mfpe.org
SUMMARY:Officers Management Meeting
DESCRIPTION:
URL:https://mfpe.org/event/officers-management-meeting/
LOCATION:Anaconda
END:VEVENT
BEGIN:VEVENT
DTSTART;TZID=America/Denver:20250626T080000
DTEND;TZID=America/Denver:20250627T170000
DTSTAMP:20260423T150949
CREATED:20250513T201754Z
LAST-MODIFIED:20250513T211546Z
UID:27462-1750924800-1751043600@mfpe.org
SUMMARY:MT AFL-CIO Convention
DESCRIPTION:
URL:https://mfpe.org/event/mt-afl-cio-convention/
END:VEVENT
BEGIN:VEVENT
DTSTART;TZID=America/Denver:20250628T080000
DTEND;TZID=America/Denver:20250629T170000
DTSTAMP:20260423T150949
CREATED:20250527T211916Z
LAST-MODIFIED:20250527T211923Z
UID:27606-1751097600-1751216400@mfpe.org
SUMMARY:Worker Power Organizing Program
DESCRIPTION:Learn more and apply by clicking here.
URL:https://mfpe.org/event/worker-power-organizing-program/
LOCATION:Butte\, MT
END:VEVENT
BEGIN:VEVENT
DTSTART;TZID=America/Denver:20250630T120000
DTEND;TZID=America/Denver:20250630T130000
DTSTAMP:20260423T150949
CREATED:20250513T212528Z
LAST-MODIFIED:20250513T212528Z
UID:27478-1751284800-1751288400@mfpe.org
SUMMARY:MFPE R Meeting
DESCRIPTION:
URL:https://mfpe.org/event/mfpe-r-meeting-2/
LOCATION:virtual
CATEGORIES:MFPE R
END:VEVENT
END:VCALENDAR