BEGIN:VCALENDAR
VERSION:2.0
PRODID:-//Montana Federation of Public Employees - ECPv6.12.0//NONSGML v1.0//EN
CALSCALE:GREGORIAN
METHOD:PUBLISH
X-ORIGINAL-URL:https://mfpe.org
X-WR-CALDESC:Events for Montana Federation of Public Employees
REFRESH-INTERVAL;VALUE=DURATION:PT1H
X-Robots-Tag:noindex
X-PUBLISHED-TTL:PT1H
BEGIN:VTIMEZONE
TZID:America/Denver
BEGIN:DAYLIGHT
TZOFFSETFROM:-0700
TZOFFSETTO:-0600
TZNAME:MDT
DTSTART:20250309T090000
END:DAYLIGHT
BEGIN:STANDARD
TZOFFSETFROM:-0600
TZOFFSETTO:-0700
TZNAME:MST
DTSTART:20251102T080000
END:STANDARD
END:VTIMEZONE
BEGIN:VEVENT
DTSTART;TZID=America/Denver:20250801T160000
DTEND;TZID=America/Denver:20250802T170000
DTSTAMP:20260423T124901
CREATED:20250513T213639Z
LAST-MODIFIED:20250513T213639Z
UID:27487-1754064000-1754154000@mfpe.org
SUMMARY:MFPE Board Of Directors
DESCRIPTION:
URL:https://mfpe.org/event/mfpe-board-of-directors/
LOCATION:Helena
END:VEVENT
BEGIN:VEVENT
DTSTART;TZID=America/Denver:20250806T080000
DTEND;TZID=America/Denver:20250808T170000
DTSTAMP:20260423T124901
CREATED:20250513T214058Z
LAST-MODIFIED:20250513T214120Z
UID:27490-1754467200-1754672400@mfpe.org
SUMMARY:National Board Certification Jump Start Training
DESCRIPTION:
URL:https://mfpe.org/event/national-board-certification-jump-start-training/
LOCATION:Helena
END:VEVENT
BEGIN:VEVENT
DTSTART;TZID=America/Denver:20250807T120000
DTEND;TZID=America/Denver:20250807T130000
DTSTAMP:20260423T124901
CREATED:20250513T214226Z
LAST-MODIFIED:20250513T214226Z
UID:27492-1754568000-1754571600@mfpe.org
SUMMARY:President's Meeting
DESCRIPTION:
URL:https://mfpe.org/event/presidents-meeting-2/
LOCATION:virtual
END:VEVENT
BEGIN:VEVENT
DTSTART;TZID=America/Denver:20250814T173000
DTEND;TZID=America/Denver:20250814T183000
DTSTAMP:20260423T124901
CREATED:20250731T203333Z
LAST-MODIFIED:20250731T203932Z
UID:28077-1755192600-1755196200@mfpe.org
SUMMARY:Town Hall Decennial Study - Missoula
DESCRIPTION:
URL:https://mfpe.org/event/town-hall-decennial-study-missoula/
ORGANIZER;CN="Kim Popham":MAILTO:kpopham@mfpe.org
END:VEVENT
BEGIN:VEVENT
DTSTART;TZID=America/Denver:20250819T173000
DTEND;TZID=America/Denver:20250819T183000
DTSTAMP:20260423T124901
CREATED:20250731T204023Z
LAST-MODIFIED:20250731T204648Z
UID:28081-1755624600-1755628200@mfpe.org
SUMMARY:Town Hall Decennial Study - Billings
DESCRIPTION:
URL:https://mfpe.org/event/town-hall-decennial-study-billings/
ORGANIZER;CN="Kim Popham":MAILTO:kpopham@mfpe.org
END:VEVENT
BEGIN:VEVENT
DTSTART;TZID=America/Denver:20250825T120000
DTEND;TZID=America/Denver:20250825T130000
DTSTAMP:20260423T124901
CREATED:20250513T214343Z
LAST-MODIFIED:20250513T214343Z
UID:27494-1756123200-1756126800@mfpe.org
SUMMARY:MFPE R Meeting
DESCRIPTION:
URL:https://mfpe.org/event/mfpe-r-meeting-4/
LOCATION:virtual
CATEGORIES:MFPE R
END:VEVENT
BEGIN:VEVENT
DTSTART;TZID=America/Denver:20250826T173000
DTEND;TZID=America/Denver:20250826T183000
DTSTAMP:20260423T124901
CREATED:20250731T205048Z
LAST-MODIFIED:20250731T205048Z
UID:28088-1756229400-1756233000@mfpe.org
SUMMARY:Town Hall Decennial Study - Kalispell
DESCRIPTION:
URL:https://mfpe.org/event/town-hall-decennial-study-kalispell/
ORGANIZER;CN="Kim Popham":MAILTO:kpopham@mfpe.org
END:VEVENT
END:VCALENDAR